BEGIN:VCALENDAR
VERSION:2.0
PRODID:-//wp-events-plugin.com//7.2.3.1//EN
TZID:Europe/Rome
X-WR-TIMEZONE:Europe/Rome
BEGIN:VEVENT
UID:5285@eventi.comune.torino.it
DTSTART;TZID=Europe/Rome:20250912T190000
DTEND;TZID=Europe/Rome:20250912T203000
DTSTAMP:20250612T123720Z
URL:https://eventi.comune.torino.it/calendario/yoga-al-tramonto-38/
SUMMARY:Yoga al tramonto
DESCRIPTION:Partecipazione a offerta libera\, senza prenotazione – Entra 
 nella community WhatsApp YOGA AL TRAMONTO per avere informazioni.\n\nIngre
 sso libero. Senza prenotazione.\n\nPer maggiori informazioni\, visita il 
 sito di Estate a Sud di Fondazione Mirafiori .
ATTACH;FMTTYPE=image/jpeg:https://eventi.comune.torino.it/wp-content/uploa
 ds/2025/06/Casa-nel-Parco.jpg
CATEGORIES:Sport
LOCATION:Casa nel Parco\, Via Modesto Panetti\, 1\, Torino\, Piemonte\, 101
 27\, Torino\, Italia
GEO:45.013645;7.648433
X-APPLE-STRUCTURED-LOCATION;VALUE=URI;X-ADDRESS=Via Modesto Panetti\, 1\, T
 orino\, Piemonte\, 10127\, Torino\, Italia;X-APPLE-RADIUS=100;X-TITLE=Casa
  nel Parco:geo:45.013645,7.648433
END:VEVENT
BEGIN:VTIMEZONE
TZID:Europe/Rome
X-LIC-LOCATION:Europe/Rome
BEGIN:DAYLIGHT
DTSTART:20250330T030000
TZOFFSETFROM:+0100
TZOFFSETTO:+0200
TZNAME:CEST
END:DAYLIGHT
END:VTIMEZONE
END:VCALENDAR