BEGIN:VCALENDAR
VERSION:2.0
PRODID:-//wp-events-plugin.com//7.2.3.1//EN
TZID:Europe/Rome
X-WR-TIMEZONE:Europe/Rome
BEGIN:VEVENT
UID:4578@eventi.comune.torino.it
DTSTART;TZID=Europe/Rome:20250308T000000
DTEND;TZID=Europe/Rome:20260308T000000
DTSTAMP:20250310T132942Z
URL:https://eventi.comune.torino.it/calendario/uno-spazio-per-leonardo-leo
 nardo-per-lo-spazio/
SUMMARY:Uno spazio per Leonardo - Leonardo per lo spazio: il nuovo allestim
 ento multimediale ai Musei Reali di Torino
DESCRIPTION:\nA partire da sabato 8 marzo\, i Musei Reali di Torino inaugur
 ano un'inedita sezione espositiva permanente situata al primo piano della 
 Galleria Sabauda. "Uno spazio per Leonardo / Leonardo per lo spazio" rappr
 esenta un innovativo allestimento multimediale pensato per valorizzare e r
 accontare la straordinaria collezione di disegni di Leonardo da Vinci cust
 odita nella Biblioteca Reale. Data la fragilità di questi documenti stori
 ci\, la loro esposizione diretta è limitata nel tempo\, rendendo questa s
 oluzione tecnologica una chiave fondamentale per la loro fruizione.\n\n\n\
 nViaggio interattivo nel pensiero di Leonardo\n\n\n\nQuesto nuovo allestim
 ento offre ai visitatori una serie di supporti informativi e multimediali\
 , tra cui un touch screen interattivo che consente di sfogliare digitalmen
 te il famoso "Codice sul volo degli uccelli". Al centro della sala\, ricca
 mente decorata in stile neobarocco\, si trova uno scrigno specchiante che 
 riflette le scritture e i disegni del maestro\, creando un'esperienza imme
 rsiva e suggestiva.\n\n\n\nL'iniziativa\, promossa dai Musei Reali\, è st
 ata curata dall'architetto Lorenzo Greppi con la collaborazione di un team
  di esperti\, tra cui Francesca De Gaudio e Alessia Frosini per la scenogr
 afia\, Faustino Montin per la museotecnica\, e Francesca Bellini delle Ste
 lle con Chiara Ronconi per la grafica.\n\n\n\nUn tesoro storico tra arte e
  scienza\n\n\n\nL'allestimento si colloca in una posizione strategica del 
 percorso museale\, nel cuore del primo piano della Galleria Sabauda\, un'a
 rea di grande affluenza. Qui\, i visitatori possono approfondire la connes
 sione tra Leonardo da Vinci e i Musei Reali\, che vantano una delle più i
 mportanti raccolte leonardesche al mondo. Tra i pezzi più celebri spiccan
 o tredici disegni autografi di straordinario valore\, acquisiti nel 1840 d
 a Carlo Alberto di Savoia\, tra cui l'iconico "Autoritratto". Questi docum
 enti offrono una panoramica unica sugli interessi e le esplorazioni del ge
 nio rinascimentale\, toccando ambiti che spaziano dall'anatomia alla mecca
 nica\, dall'architettura alla scienza del volo.\n\n\n\nUn ulteriore arricc
 himento della collezione si è avuto nel 1893 con l'arrivo del "Codice sul
  volo degli uccelli"\, un manoscritto prezioso in cui Leonardo studia il f
 unzionamento del volo attraverso osservazioni dettagliate sull'anatomia de
 gli uccelli e principi di aerodinamica.\n\n\n\nLeonardo da Vinci su Marte\
 n\n\n\nL'esperienza multimediale si apre con un filmato che racconta un ev
 ento straordinario: il viaggio dell'"Autoritratto" e del "Codice sul volo 
 degli uccelli" nello spazio. Grazie a un'idea di Silvia Rosa-Brusin del TG
 R Leonardo e alla collaborazione con la NASA\, le riproduzioni digitali di
  queste opere sono state incorporate in un microchip e trasportate dal rov
 er Curiosity su Marte\, atterrando sul pianeta rosso il 5 agosto 2012.\n\n
 \n\nEsperienza immersiva tra reale e virtuale\n\n\n\nCuore pulsante dell'a
 llestimento è l'installazione multimediale "Leonardo da Vinci: la visione
  del Genio tra reale e virtuale"\, realizzata dalla società Mnemosyne e c
 urata da Cristian Casella e Nicola Sganga. Questo sistema immersivo consen
 te ai visitatori di esplorare il mondo di Leonardo con modalità innovativ
 e\, offrendo una prospettiva inedita sul suo celebre "Autoritratto".\n\n\n
 \nPer garantire una fruizione dinamica della collezione\, all'interno dell
 o scrigno centrale verranno esposti a rotazione i preziosi disegni origina
 li della Biblioteca Reale\, protetti da una vetrina blindata e climatizzat
 a.\n\n\n\nMuseo sempre più accogliente\n\n\n\nIn concomitanza con l'apert
 ura di questo nuovo spazio dedicato a Leonardo\, riapre al pubblico anche 
 il bookshop dei Musei Reali\, situato accanto alla biglietteria e affidato
  a Silvana Editoriale. Il progetto\, firmato da Loredana Iacopino Architet
 tura\, punta a rendere ancora più accogliente l'esperienza di visita.\n\n
 \n\nInaugurazione tra musica e teatro\n\n\n\nLa presentazione del nuovo al
 lestimento è stata celebrata con una serata speciale che ha unito arte\, 
 musica e teatro. Il restauro degli ambienti storici del Caffé Reale è st
 ato accompagnato da esibizioni musicali in collaborazione con il Conservat
 orio "Giuseppe Verdi" di Torino. Inoltre\, una performance teatrale a cura
  di Stefania Rosso ha dato voce alla figura di Leonardo attraverso il test
 o "Quel gran genio del mio amico" di Oliviero Corbetta\, offrendo un viagg
 io emozionante tra i misteri e le invenzioni di uno dei più grandi geni d
 ella storia.\n\n\n\nCon questo nuovo spazio\, i Musei Reali di Torino raff
 orzano il loro ruolo di custodi della memoria storica\, offrendo al pubbli
 co un'opportunità unica per esplorare il genio di Leonardo in un perfetto
  equilibrio tra tradizione e innovazione.\n\n\n\nSul fotoblog della Città
  di Torino è possibile vedere la fotogallery dell'allestimento multimedia
 le su Leonardo.\n\n\n\nMusei Reali di Torino – Galleria Sabauda\, primo 
 piano: Per maggiori informazioni visita la pagina dedicata a Uno spazio pe
 r Leonardo / Leonardo per lo spazio. L'ingresso è incluso nel biglietto d
 ei Musei Reali.\n
ATTACH;FMTTYPE=image/jpeg:https://eventi.comune.torino.it/wp-content/uploa
 ds/2025/03/uno-spazio-per-leonardo.jpg
CATEGORIES:Mostra
LOCATION:Musei Reali - Galleria Sabauda\, Via Piazzetta Reale 1\, Torino\, 
 Piemonte\, Torino\, Italia
GEO:45.07049;7.68682
X-APPLE-STRUCTURED-LOCATION;VALUE=URI;X-ADDRESS=Via Piazzetta Reale 1\, Tor
 ino\, Piemonte\, Torino\, Italia;X-APPLE-RADIUS=100;X-TITLE=Musei Reali - 
 Galleria Sabauda:geo:45.07049,7.68682
END:VEVENT
BEGIN:VTIMEZONE
TZID:Europe/Rome
X-LIC-LOCATION:Europe/Rome
BEGIN:STANDARD
DTSTART:20241027T020000
TZOFFSETFROM:+0200
TZOFFSETTO:+0100
TZNAME:CET
END:STANDARD
BEGIN:DAYLIGHT
DTSTART:20250330T030000
TZOFFSETFROM:+0100
TZOFFSETTO:+0200
TZNAME:CEST
END:DAYLIGHT
BEGIN:STANDARD
DTSTART:20251026T020000
TZOFFSETFROM:+0200
TZOFFSETTO:+0100
TZNAME:CET
END:STANDARD
END:VTIMEZONE
END:VCALENDAR