BEGIN:VCALENDAR
VERSION:2.0
PRODID:-//wp-events-plugin.com//7.2.3.1//EN
TZID:Europe/Rome
X-WR-TIMEZONE:Europe/Rome
BEGIN:VEVENT
UID:4679@eventi.comune.torino.it
DTSTART;TZID=Europe/Rome;VALUE=DATE:20250411
DTEND;TZID=Europe/Rome;VALUE=DATE:20250414
DTSTAMP:20250328T090015Z
URL:https://eventi.comune.torino.it/calendario/torino-comics-2025/
SUMMARY:Torino Comics 2025
DESCRIPTION:\nil Lingotto Fiere diventa il centro nevralgico della cultura 
 pop\, pronto ad accogliere appassionati\, cosplayer\, gamer e sognatori di
  ogni età.\n\n\n\nÉ possibile trovare: Artist Alley con grandi autori e
  talenti emergenti del fumettoAree gaming e tornei per sfidare gli amici
  Cosplay show epici\, tra sfilate e competizioni mozzafiatoEspositori\, 
 fumetti\, gadget esclusivi e tanto altro per collezionisti e fan\n\n\n\nQ
 uest’anno\, Torino Comics si arricchisce con una novità imperdibile: un
 ’intera area dedicata allo sport. Un’opportunità unica per scoprire i
 l connubio tra passione\, dinamismo e divertimento\n\n\n\nScarica il progr
 amma di Torino Comics\n\n\n\nAcquista i biglietti di Torino Comics\n\n\n\n
 Informazioni Torino Comics\n
ATTACH;FMTTYPE=image/jpeg:https://eventi.comune.torino.it/wp-content/uploa
 ds/2025/03/download.jpg
CATEGORIES:Festival
LOCATION:\, \, 
X-APPLE-STRUCTURED-LOCATION;VALUE=URI;X-ADDRESS=\, ;X-APPLE-RADIUS=100;X-TI
 TLE=:geo:0,0
END:VEVENT
BEGIN:VTIMEZONE
TZID:Europe/Rome
X-LIC-LOCATION:Europe/Rome
BEGIN:DAYLIGHT
DTSTART:20250330T030000
TZOFFSETFROM:+0100
TZOFFSETTO:+0200
TZNAME:CEST
END:DAYLIGHT
END:VTIMEZONE
END:VCALENDAR