BEGIN:VCALENDAR
VERSION:2.0
PRODID:-//wp-events-plugin.com//7.2.3.1//EN
TZID:Europe/Rome
X-WR-TIMEZONE:Europe/Rome
BEGIN:VEVENT
UID:3870@eventi.comune.torino.it
DTSTART;TZID=Europe/Rome:20240907T100000
DTEND;TZID=Europe/Rome:20240908T190000
DTSTAMP:20240828T083052Z
URL:https://eventi.comune.torino.it/calendario/to-play-il-festival-del-gio
 co-2/
SUMMARY:To Play. Il Festival del gioco
DESCRIPTION:\nAlla sua settima edizione\, è una celebrazione del gioco di
  ruolo e da tavolo per gli appassionati e per i curiosi alle prime esperi
 enze. Nella zona del gioco da tavolo è possibile provare giochi nuovi e i
 nnovativi o sfidare altri appassionati nei più grandi classici del settor
 e. Ai tavoli di gioco di ruolo si possono interpretare decine di personagg
 i\, fantastici o realistici\, e giocare nei mondi inventati e gestiti dai 
 master.Se sei un cosplayer\, porta il tuo costume e lasciati ammirare nell
 a splendida ambientazione naturale del parco.\n\n\n\nPer maggiori informaz
 ioni\n
ATTACH;FMTTYPE=image/jpeg:https://eventi.comune.torino.it/wp-content/uploa
 ds/2024/08/home-mobile-1.jpg
CATEGORIES:Festival
LOCATION:Parco della Tesoriera\, Corso Francia 186-192\, Torino\, Piemonte\
 , 10142\, Torino\, Italia
GEO:45.075206;7.638627
X-APPLE-STRUCTURED-LOCATION;VALUE=URI;X-ADDRESS=Corso Francia 186-192\, Tor
 ino\, Piemonte\, 10142\, Torino\, Italia;X-APPLE-RADIUS=100;X-TITLE=Parco 
 della Tesoriera:geo:45.075206,7.638627
END:VEVENT
BEGIN:VTIMEZONE
TZID:Europe/Rome
X-LIC-LOCATION:Europe/Rome
BEGIN:DAYLIGHT
DTSTART:20240331T030000
TZOFFSETFROM:+0100
TZOFFSETTO:+0200
TZNAME:CEST
END:DAYLIGHT
END:VTIMEZONE
END:VCALENDAR