BEGIN:VCALENDAR
VERSION:2.0
PRODID:-//wp-events-plugin.com//7.2.3.1//EN
TZID:Europe/Rome
X-WR-TIMEZONE:Europe/Rome
BEGIN:VEVENT
UID:6960@eventi.comune.torino.it
DTSTART;TZID=Europe/Rome:20260118T000000
DTEND;TZID=Europe/Rome:20260523T000000
DTSTAMP:20260414T083442Z
URL:https://eventi.comune.torino.it/calendario/teatro-della-caduta/
SUMMARY:Stagione teatrale 2025/26 Teatro della Caduta
DESCRIPTION:Il Teatro della Caduta\, piccolo spazio torinese\, si distingue
  per la sua creatività indipendente e per i progetti originali che svilup
 pa\, consolidando una rete sociale e culturale che ruota attorno alle sue 
 attività. La comunità che gravita intorno al teatro riflette pienamente 
 la filosofia che ispira il suo nome: “Perché cadere sul palcoscenico? P
 erché puoi fallire”. Un principio che diventa metafora di sperimentazio
 ne\, di rischio creativo e di libertà espressiva\, valorizzando l’error
 e come momento di scoperta e di crescita artistica.\n\nIn questo contesto\
 , la rassegna si configura come un laboratorio aperto\, in cui gli artisti
 \, i collaboratori e il pubblico partecipano a un dialogo continuo\, fatto
  di scambi\, stimoli e contaminazioni tra linguaggi diversi. La direzione 
 di Bianchini e Sacco garantisce una stagione coerente e ambiziosa\, capace
  di coniugare l’attenzione alla formazione\, il sostegno ai giovani tale
 nti e la promozione di progetti che esplorano nuove frontiere del teatro c
 ontemporaneo. Il Teatro della Caduta conferma così il suo ruolo di punto 
 di riferimento per chi cerca esperienze sceniche audaci\, poetiche e innov
 ative nel panorama culturale torinese.\n\nLa rassegna 2025/2026 del Teatro
  della Caduta è curata da Marco Bianchini\, da anni figura centrale all
 ’interno del team della compagnia. Bianchini\, noto al pubblico non solo
  come attore\, svolge un ruolo fondamentale nella programmazione degli spe
 ttacoli e delle attività formative\, contribuendo a delineare una stagion
 e coerente con la visione artistica del teatro. Accanto a lui\, per la sez
 ione dedicata al teatro d’oggetti e di figura\, agisce Valeria Sacco\, f
 ondatrice della compagnia Riserva Canini e vincitrice del Premio Eolo 2014
 \, riconoscimento conferito per il contributo al rinnovamento del teatro d
 i figura in Italia. La loro collaborazione rappresenta un incontro tra esp
 erienza e innovazione\, tra ricerca sulla forma scenica e attenzione alla 
 qualità poetica dei progetti proposti.\n\nPuoi verificare i dettagli dell
 a stagione a questa pagina.\n\nA pagamento. Necessaria prenotazione.\n\nTe
 l. 011 2453869\nEmail: info@teatrodellacaduta.org\n\nSito Teatro della Cad
 uta\nFacebook\nInstagram
ATTACH;FMTTYPE=image/jpeg:https://eventi.comune.torino.it/wp-content/uploa
 ds/2026/04/stagione_teatrodellacaduta.jpg
CATEGORIES:Teatro
LOCATION:Teatro della Caduta\, via Michele Buinva 24\, Torino\, Piemonte\, 
 10124\, Torino\, Italia
GEO:45.070733;7.699711
X-APPLE-STRUCTURED-LOCATION;VALUE=URI;X-ADDRESS=via Michele Buinva 24\, Tor
 ino\, Piemonte\, 10124\, Torino\, Italia;X-APPLE-RADIUS=100;X-TITLE=Teatro
  della Caduta:geo:45.070733,7.699711
END:VEVENT
BEGIN:VTIMEZONE
TZID:Europe/Rome
X-LIC-LOCATION:Europe/Rome
BEGIN:STANDARD
DTSTART:20251026T020000
TZOFFSETFROM:+0200
TZOFFSETTO:+0100
TZNAME:CET
END:STANDARD
BEGIN:DAYLIGHT
DTSTART:20260329T030000
TZOFFSETFROM:+0100
TZOFFSETTO:+0200
TZNAME:CEST
END:DAYLIGHT
END:VTIMEZONE
END:VCALENDAR