BEGIN:VCALENDAR
VERSION:2.0
PRODID:-//wp-events-plugin.com//7.2.3.1//EN
TZID:Europe/Rome
X-WR-TIMEZONE:Europe/Rome
BEGIN:VEVENT
UID:4852@eventi.comune.torino.it
DTSTART;TZID=Europe/Rome:20250611T190000
DTEND;TZID=Europe/Rome:20250611T203000
DTSTAMP:20250603T104113Z
URL:https://eventi.comune.torino.it/calendario/speed-date-letterario/
SUMMARY:Speed Date Letterario
DESCRIPTION:\nA cura di Pagina37.Una manciata di minuti uno di fronte all
 ’altro per conoscersi\, partendo da un libro portato da ciascun partecip
 ante! Scaduto il tempo si ruota\, nuova persona e nuovo libro\, così via 
 fino alla fine del gioco. Alla conquista di nuovi titoli e nuove conoscenz
 e: nessuno torna a casa con il cuore spezzato\, libri di Pagina37 e buoni 
 libro per le coppie formate\, più una lunga lista di nuovi libri da legge
 re! Nell’ambito del progetto “Chiavi di Lettura”.\n\n\n\nIngresso li
 bero. Senza prenotazione.\n\n\n\ncomunicazione@officinecaos.net\n\n\n\nSit
 o di Officine CAOS\n
ATTACH;FMTTYPE=image/jpeg:https://eventi.comune.torino.it/wp-content/uploa
 ds/2025/05/Nuovo-progetto-4.jpg
CATEGORIES:Lettura
LOCATION:Officine Caos\, Piazza Eugenio Montale 18\, Torino\, Piemonte\, 10
 151\, Torino\, Italia
GEO:45.10352;7.630191
X-APPLE-STRUCTURED-LOCATION;VALUE=URI;X-ADDRESS=Piazza Eugenio Montale 18\,
  Torino\, Piemonte\, 10151\, Torino\, Italia;X-APPLE-RADIUS=100;X-TITLE=Of
 ficine Caos:geo:45.10352,7.630191
END:VEVENT
BEGIN:VTIMEZONE
TZID:Europe/Rome
X-LIC-LOCATION:Europe/Rome
BEGIN:DAYLIGHT
DTSTART:20250330T030000
TZOFFSETFROM:+0100
TZOFFSETTO:+0200
TZNAME:CEST
END:DAYLIGHT
END:VTIMEZONE
END:VCALENDAR