BEGIN:VCALENDAR
VERSION:2.0
PRODID:-//wp-events-plugin.com//7.2.3.1//EN
TZID:Europe/Rome
X-WR-TIMEZONE:Europe/Rome
BEGIN:VEVENT
UID:6030@eventi.comune.torino.it
DTSTART;TZID=Europe/Rome;VALUE=DATE:20251030
DTEND;TZID=Europe/Rome;VALUE=DATE:20251221
DTSTAMP:20251119T132550Z
URL:https://eventi.comune.torino.it/calendario/show-1-oltre-la-linea-vitto
 rio-asteriti-e-vincenzo-frattini-a-cura-di-carina-leal-show-2-project-room
 -pepa-prieto/
SUMMARY:Show #1: Oltre la linea – Vittorio Asteriti e Vincenzo Frattini -
  a cura di Carina Leal | Show #2: Project Room - Pepa Prieto
DESCRIPTION:La linea\, intesa come l’ente geometrico che si estende nel s
 enso della lunghezza e che può assumere una traiettoria retta\, curva\, o
 rizzontale\, verticale o obliqua è il motto che collega i dipinti dei due
  artisti.\n\nIngresso libero. Senza prenotazione.\n\nInformazioni: feboeda
 fne@gmail.com\nSito Febo &amp\; Dafne\n\nPer gli orari consultare il sito.
 \n\n&nbsp\;
ATTACH;FMTTYPE=image/jpeg:https://eventi.comune.torino.it/wp-content/uploa
 ds/2025/11/FEBO_E_DAFNE_oltre_la_linea_800x450.jpg
CATEGORIES:Mostra
LOCATION:Galleria Febo & Dafne\, via Vanchiglia\, 16\, Torino\, Piemonte\, 
 10124\, Torino\, Italia
GEO:45.067658;7.698347
X-APPLE-STRUCTURED-LOCATION;VALUE=URI;X-ADDRESS=via Vanchiglia\, 16\, Torin
 o\, Piemonte\, 10124\, Torino\, Italia;X-APPLE-RADIUS=100;X-TITLE=Galleria
  Febo & Dafne:geo:45.067658,7.698347
END:VEVENT
BEGIN:VTIMEZONE
TZID:Europe/Rome
X-LIC-LOCATION:Europe/Rome
BEGIN:STANDARD
DTSTART:20251026T020000
TZOFFSETFROM:+0200
TZOFFSETTO:+0100
TZNAME:CET
END:STANDARD
END:VTIMEZONE
END:VCALENDAR