BEGIN:VCALENDAR
VERSION:2.0
PRODID:-//wp-events-plugin.com//7.2.3.1//EN
TZID:Europe/Rome
X-WR-TIMEZONE:Europe/Rome
BEGIN:VEVENT
UID:5123@eventi.comune.torino.it
DTSTART;TZID=Europe/Rome:20250612T203000
DTEND;TZID=Europe/Rome:20250612T211500
DTSTAMP:20250604T102943Z
URL:https://eventi.comune.torino.it/calendario/roberta-mori-presenta-il-li
 bro-svegliarsi-adulti-vita-di-sandro-delmastro-partigiano-e-amico-di-primo
 -levi-ed-einaudi/
SUMMARY:Roberta Mori presenta il libro "Svegliarsi adulti. Vita di Sandro D
 elmastro\, partigiano e amico di Primo Levi" (ed. Einaudi)
DESCRIPTION:Chi era Sandro Delmastro? Certamente un amico stretto di Primo 
 Levi. Ma anche un capo partigiano\, ucciso dai fascisti. E poi un alpinist
 a. Ma Sandro è impresso nelle menti dei lettori anche e soprattutto come 
 l'indimenticabile protagonista del racconto "Il Ferro" nella raccolta "Il 
 Sistema periodico" di Primo Levi. Chi era quindi la persona in carne e oss
 a dietro quel personaggio?\n\nIngresso libero. Senza prenotazione.\n\npren
 otazioni@evergreenfest.it\n334.8655865\nnumero attivo dal lunedì alla dom
 enica\ndalle 15:30 alle 19:00\n\nSito di EvergreenFest
ATTACH;FMTTYPE=image/jpeg:https://eventi.comune.torino.it/wp-content/uploa
 ds/2025/06/EVERGREEN800.png
CATEGORIES:Varie
LOCATION:Parco della Tesoriera\, Corso Francia 186-192\, Torino\, Piemonte\
 , 10142\, Torino\, Italia
GEO:45.075206;7.638627
X-APPLE-STRUCTURED-LOCATION;VALUE=URI;X-ADDRESS=Corso Francia 186-192\, Tor
 ino\, Piemonte\, 10142\, Torino\, Italia;X-APPLE-RADIUS=100;X-TITLE=Parco 
 della Tesoriera:geo:45.075206,7.638627
END:VEVENT
BEGIN:VTIMEZONE
TZID:Europe/Rome
X-LIC-LOCATION:Europe/Rome
BEGIN:DAYLIGHT
DTSTART:20250330T030000
TZOFFSETFROM:+0100
TZOFFSETTO:+0200
TZNAME:CEST
END:DAYLIGHT
END:VTIMEZONE
END:VCALENDAR