BEGIN:VCALENDAR
VERSION:2.0
PRODID:-//wp-events-plugin.com//7.2.3.1//EN
TZID:Europe/Rome
X-WR-TIMEZONE:Europe/Rome
BEGIN:VEVENT
UID:4469@eventi.comune.torino.it
DTSTART;TZID=Europe/Rome:20250123T090000
DTEND;TZID=Europe/Rome:20250123T130000
DTSTAMP:20250117T125129Z
URL:https://eventi.comune.torino.it/calendario/pietre-d-inciampo-torino-20
 25/
SUMMARY:Sei nuove pietre d'inciampo a Torino
DESCRIPTION:\nPer l’undicesimo anno consecutivo\, Torino accoglie le Piet
 re d’Inciampo (Stolpersteine)\, le celebri targhe commemorative ideate d
 all'artista tedesco Gunter Demnig. Questi piccoli cubi di cemento\, sormon
 tati da una targhetta in ottone\, rappresentano un tributo individuale a c
 iascuna vittima della deportazione nazifascista. Ogni pietra riporta la sc
 ritta "Qui abitava…"\, seguita dal nome e cognome\, dalla data e dal luo
 go di nascita e di morte o scomparsa della persona ricordata. Vengono posi
 zionate nel suolo\, di fronte all’ultima abitazione scelta liberamente d
 alla vittima\, per mantenere viva la memoria collettiva.\n\n\n\nUna mappa 
 per non dimenticare\n\n\n\nGrazie a un lavoro di documentazione e sensibil
 izzazione\, è possibile  a cui sono dedicate le Pietre d’Inciampo e la 
 loro localizzazione sul territorio cittadino. A seguito delle nuove instal
 lazioni previste per giovedì 23 gennaio 2025\, il numero totale delle pie
 tre a Torino raggiungerà quota 159.\n\n\n\nL'iniziativa si inserisce nel 
 programma di eventi dedicati al Giorno della Memoria \, promossa dal Museo
  Diffuso della Resistenza\, della Deportazione\, della Guerra\, dei Diritt
 i e della Libertà di Torino\, in collaborazione con la Comunità Ebraica 
 di Torino\, l’Associazione Nazionale Ex Deportati (ANED) sezione Torino\
 , il Polo del ’900 e il supporto della Città di Torino.\n\n\n\nIl progr
 amma della posa: 23 gennaio 2025\n\n\n\nLe cerimonie di posa delle sei nuo
 ve Pietre d’Inciampo si svolgeranno nella mattinata di giovedì 23 genna
 io 2025 e seguiranno il seguente calendario:\n\n\n\n\nOre 9:00 – Corso V
 ercelli 191: posa della pietra in memoria di Mauro Finiguerra.\n\n\n\nOre 
 9:40 – Corso Giulio Cesare 46: installazione dedicata a Cesarina Levi.\n
 \n\n\nOre 10:10 – Via Porta Palatina 17: commemorazione di Giovanni Abat
 i.\n\n\n\nOre 10:45 – Via Bellezia 15: omaggio a Cesare Levi.\n\n\n\nOre
  11:30 – Via Verdi 10: posa della pietra per Luigi Ottino.\n\n\n\nOre 12
 :20 – Corso Galileo Ferraris 134: conclusione con la cerimonia pubblica 
 per Arturo Levi\, alla presenza delle istituzioni e degli enti promotori.\
 n\n\n\n\nUn percorso di memoria collettiva\n\n\n\nOgni Pietra d’Inciampo
  rappresenta un invito a fermarsi\, a riflettere e a ricordare. La presenz
 a fisica di queste targhe nei luoghi dove le vittime hanno vissuto permett
 e a chiunque le incontri di entrare in contatto diretto con le storie di c
 hi ha subito le atrocità del nazifascismo. Torino\, con le sue 159 pietre
 \, continua a testimoniare l’importanza della memoria come strumento per
  costruire un futuro di consapevolezza e responsabilità civile.\n
ATTACH;FMTTYPE=image/jpeg:https://eventi.comune.torino.it/wp-content/uploa
 ds/2025/01/pietred-inciampo.jpg
CATEGORIES:Varie
END:VEVENT
BEGIN:VTIMEZONE
TZID:Europe/Rome
X-LIC-LOCATION:Europe/Rome
BEGIN:STANDARD
DTSTART:20241027T020000
TZOFFSETFROM:+0200
TZOFFSETTO:+0100
TZNAME:CET
END:STANDARD
END:VTIMEZONE
END:VCALENDAR