BEGIN:VCALENDAR
VERSION:2.0
PRODID:-//wp-events-plugin.com//7.2.3.1//EN
TZID:Europe/Rome
X-WR-TIMEZONE:Europe/Rome
BEGIN:VEVENT
UID:5844@eventi.comune.torino.it
DTSTART;TZID=Europe/Rome:20251024T000000
DTEND;TZID=Europe/Rome:20251025T000000
DTSTAMP:20251020T100042Z
URL:https://eventi.comune.torino.it/calendario/open-innovation-summit/
SUMMARY:Open Innovation Summit 2025
DESCRIPTION:L’Intelligenza Artificiale non rappresenta più una frontiera
  tecnologica da esplorare\, ma una forza di trasformazione capace di ridef
 inire i modelli produttivi\, l’organizzazione del lavoro e la competitiv
 ità dei sistemi industriali. Oggi\, la sfida non è solo comprendere l’
 AI\, ma imparare a porle le giuste domande per costruire un futuro in cui 
 la tecnologia sia al servizio dell’uomo\, della sostenibilità e dello s
 viluppo economico.\nL’Open Innovation Summit 2025\, promosso da Il Sole 
 24 Ore e Zest\, nasce proprio con questo obiettivo: creare un luogo di dia
 logo e collaborazione tra imprese\, startup\, istituzioni e centri di rice
 rca. Un momento di confronto strategico per comprendere come l’essere um
 ano possa guidare con consapevolezza la rivoluzione dell’intelligenza ar
 tificiale.\nL’evento si terrà il 24 e 25 ottobre presso le OGR di Torin
 o\, con il patrocinio di Torino Capitale Europea dell’Innovazione\, e of
 frirà una prospettiva concreta sul ruolo dell’AI come motore di progres
 so economico e sociale.\nPer maggiori informazioni visita la pagina Open I
 nnovation Summit 2025 - AI e industria: le domande giuste
ATTACH;FMTTYPE=image/jpeg:https://eventi.comune.torino.it/wp-content/uploa
 ds/2025/10/Open-innovation-summit-2025.jpg
CATEGORIES:Fiera
LOCATION:OGR - Officine Grandi Riparazioni\, Corso Castelfidardo 22\, Torin
 o\, Piemonte\, 10138\, Torino\, Italia
GEO:45.06627;7.660777
X-APPLE-STRUCTURED-LOCATION;VALUE=URI;X-ADDRESS=Corso Castelfidardo 22\, To
 rino\, Piemonte\, 10138\, Torino\, Italia;X-APPLE-RADIUS=100;X-TITLE=OGR -
  Officine Grandi Riparazioni:geo:45.06627,7.660777
END:VEVENT
BEGIN:VTIMEZONE
TZID:Europe/Rome
X-LIC-LOCATION:Europe/Rome
BEGIN:DAYLIGHT
DTSTART:20250330T030000
TZOFFSETFROM:+0100
TZOFFSETTO:+0200
TZNAME:CEST
END:DAYLIGHT
END:VTIMEZONE
END:VCALENDAR