BEGIN:VCALENDAR
VERSION:2.0
PRODID:-//wp-events-plugin.com//7.2.3.1//EN
TZID:Europe/Rome
X-WR-TIMEZONE:Europe/Rome
BEGIN:VEVENT
UID:2036@eventi.comune.torino.it
DTSTART;TZID=Europe/Rome;VALUE=DATE:20230610
DTEND;TZID=Europe/Rome;VALUE=DATE:20230612
DTSTAMP:20250310T085742Z
URL:https://eventi.comune.torino.it/calendario/open-house-torino/
SUMMARY:Open House Torino
DESCRIPTION:\nTorna Open House\, l'evento gratuito che permette di visitare
  case\, palazzi e luoghi di interessa\, abitualmente non accessibili\, e s
 coprire la ricchezza dell'architettura e del paesaggio urbano. \n\n\n\nLʼ
 obiettivo dellʼevento è conoscere insieme al pubblico un grande patrimon
 io comune e riflettere sul ruolo dei luoghi in cui viviamo. Con un messagg
 io: una città progettata meglio negli edifici\, negli interni\, nello spa
 zio pubblico è una città capace di farci vivere meglio.Open House Torino
  è&nbsp\;un invito alla scoperta\, in una grande festa per la curiosità 
 e il senso di appartenenza.\n\n\n\nSul sito l'elenco completo degli edific
 i che aderiscono all'iniziativa. \n\n\n\nLa grande maggioranza dei luoghi 
 in programma NON richiede prenotazioni. Per il piccolo gruppo di spazi vis
 itabili solo su prenotazione\, le prenotazioni saranno attive dal 6 giugn
 o\, ore 20\, sempre attraverso la web app a cui si accede registrandosi 
 al sito.\n\n\n\n\n
ATTACH;FMTTYPE=image/jpeg:https://eventi.comune.torino.it/wp-content/uploa
 ds/2023/05/SacroVolto_fotoBarbaraCorsico_2-1920x600-1.jpg
CATEGORIES:Varie
END:VEVENT
BEGIN:VTIMEZONE
TZID:Europe/Rome
X-LIC-LOCATION:Europe/Rome
BEGIN:DAYLIGHT
DTSTART:20230326T030000
TZOFFSETFROM:+0100
TZOFFSETTO:+0200
TZNAME:CEST
END:DAYLIGHT
END:VTIMEZONE
END:VCALENDAR