BEGIN:VCALENDAR
VERSION:2.0
PRODID:-//wp-events-plugin.com//7.2.3.1//EN
TZID:Europe/Rome
X-WR-TIMEZONE:Europe/Rome
BEGIN:VEVENT
UID:4840@eventi.comune.torino.it
DTSTART;TZID=Europe/Rome;VALUE=DATE:20250607
DTEND;TZID=Europe/Rome;VALUE=DATE:20250609
DTSTAMP:20250526T081050Z
URL:https://eventi.comune.torino.it/calendario/open-house-torino-2025/
SUMMARY:Open House Torino 2025: un weekend per scoprire la città da nuove 
 prospettive
DESCRIPTION:\nSabato 7 e domenica 8 giugno torna Open House Torino\, l’in
 iziativa che\, giunta alla sua settima edizione\, invita cittadini e visit
 atori ad attraversare le soglie di oltre 150 luoghi solitamente chiusi al 
 pubblico. Un’occasione unica per esplorare gratuitamente case private\, 
 palazzi storici\, studi di architettura\, edifici industriali riqualificat
 i e spazi urbani di particolare interesse.\n\n\n\nL’evento si inserisce 
 nel circuito internazionale Open House Worldwide \, attivo in più di 40 c
 ittà del mondo\, con l’obiettivo di promuovere la cultura architettonic
 a e urbanistica attraverso l’esperienza diretta degli spazi. A Torino\, 
 il progetto offre un viaggio inedito nel cuore della città\, tra passato 
 e presente\, tra rigore storico e creatività contemporanea.\n\n\n\nOgni v
 isita è gratuita\, ma per accedere ai luoghi selezionati è richiesta la 
 registrazione online sul sito ufficiale dell’iniziativa. Il programma co
 mpleto\, con mappa e informazioni sulle modalità di partecipazione\, è d
 isponibile sulla pagina web di Open House Torino . \n\n\n\nPuoi consultare
  sul sito la mappa dei luoghi .\n\n\n\nUn fine settimana aperto alla belle
 zza\, pensato per stimolare la curiosità\, il senso civico e il legame co
 n il territorio.\n
ATTACH;FMTTYPE=image/jpeg:https://eventi.comune.torino.it/wp-content/uploa
 ds/2025/05/Open-House.jpg
CATEGORIES:Varie
END:VEVENT
BEGIN:VTIMEZONE
TZID:Europe/Rome
X-LIC-LOCATION:Europe/Rome
BEGIN:DAYLIGHT
DTSTART:20250330T030000
TZOFFSETFROM:+0100
TZOFFSETTO:+0200
TZNAME:CEST
END:DAYLIGHT
END:VTIMEZONE
END:VCALENDAR