BEGIN:VCALENDAR
VERSION:2.0
PRODID:-//wp-events-plugin.com//7.2.3.1//EN
TZID:Europe/Rome
X-WR-TIMEZONE:Europe/Rome
BEGIN:VEVENT
UID:3113@eventi.comune.torino.it
DTSTART;TZID=Europe/Rome;VALUE=DATE:20240317
DTEND;TZID=Europe/Rome;VALUE=DATE:20240320
DTSTAMP:20240301T111416Z
URL:https://eventi.comune.torino.it/calendario/horeca-expoforum/
SUMMARY:Horeca Expoforum
DESCRIPTION:\nL'unico evento internazionale dedicato ai professionisti d
 el settore del Nord-Ovest Italia.\n\n\n\nHoreca Expoforum è l’occasio
 ne giusta per conoscere in una sola giornata centinaia di aziende e produt
 tori. Tutto quello che serve per i professionisti dell’Horeca\, dai prod
 otti Food&amp\;Beverage (prodotti\, ingredienti\, merci\, novità) ai macc
 hinari innovativi alle attrezzature.\n\n\n\nOltre all'area espositiva\, un
  calendario fitto di momenti formativi\, talk\, workshop e masterclass per
  scoprire tutti i trucchi dei professionisti\, per lasciarsi ispirare\, pe
 r acquisire nuove conoscenze ed essere sempre aggiornati con esperti\, gio
 rnalisti\, food blogger.\n\n\n\nMaggiori Informazioni\n\n\n\n\n
ATTACH;FMTTYPE=image/jpeg:https://eventi.comune.torino.it/wp-content/uploa
 ds/2024/03/horeca1.jpg
CATEGORIES:Varie
LOCATION:\, \, 
X-APPLE-STRUCTURED-LOCATION;VALUE=URI;X-ADDRESS=\, ;X-APPLE-RADIUS=100;X-TI
 TLE=:geo:0,0
END:VEVENT
BEGIN:VTIMEZONE
TZID:Europe/Rome
X-LIC-LOCATION:Europe/Rome
BEGIN:STANDARD
DTSTART:20231029T020000
TZOFFSETFROM:+0200
TZOFFSETTO:+0100
TZNAME:CET
END:STANDARD
END:VTIMEZONE
END:VCALENDAR