BEGIN:VCALENDAR
VERSION:2.0
PRODID:-//wp-events-plugin.com//7.2.3.1//EN
TZID:Europe/Rome
X-WR-TIMEZONE:Europe/Rome
BEGIN:VEVENT
UID:3149@eventi.comune.torino.it
DTSTART;TZID=Europe/Rome:20240504T000000
DTEND;TZID=Europe/Rome:20240507T000000
DTSTAMP:20240503T132631Z
URL:https://eventi.comune.torino.it/calendario/giro-ditalia-2024/
SUMMARY:Giro d'Italia 2024
DESCRIPTION:\nSarà il Piemonte la regione di partenza per il Giro d’Ital
 ia 2024 e ospiterà le prime 3 tappe della competizione.&nbsp\;\n\n\n\nTap
 pa 1\, 4 maggio\, Venaria Reale-Torino\, 136 km. \n\n\n\nDa Venaria Reale 
 verso Torino\, attraversando la collina di Superga\, per un omaggio nel 75
 ° anniversario dalla tragedia che coinvolse il Grande Torino. Si prosegue
  per raggiungere il Lungo Po direzione Moncalieri.\n\n\n\nPercorso e modif
 iche viabili\n\n\n\nTappa 2\, 5 maggio\, San Francesco al Campo – Santua
 rio di Oropa (Biella)\, 150 km\n\n\n\nPartenza dalla città del velodromo\
 , casa anche a Filippo Ganna\, per poi attraversare il canavese ed uscire 
 dalla provincia di Torino\, verso il Biellese: 13 km di salita fino al San
 tuario di Oropa\, famoso per l'impresa di Marco Pantani nel 1999.\n\n\n\nT
 appa 3\, 6 maggio\, Novara - Fossano\, 165 km\n\n\n\nTappa panoramica\, ad
 atta ai velocisti\, che però dovranno conquistarsi la volata. Dal riso di
  Novara e Vercelli alle colline del Monferrato\, tra Lu e Cherasco\, fino 
 alla tappa che porta all’arrivo.\n\n\n\nTappa 4\, 7 maggio\, Acqui Terme
  ed uscita dal Piemonte\n\n\n\nAcqui Terme è l’ultima tappa piemontese\
 , per poi uscire e proseguire lungo la penisola italiana.\n\n\n\nPer maggi
 ori informazioni\n
ATTACH;FMTTYPE=image/jpeg:https://eventi.comune.torino.it/wp-content/uploa
 ds/2024/04/giro.jpeg
CATEGORIES:Sport
END:VEVENT
BEGIN:VTIMEZONE
TZID:Europe/Rome
X-LIC-LOCATION:Europe/Rome
BEGIN:DAYLIGHT
DTSTART:20240331T030000
TZOFFSETFROM:+0100
TZOFFSETTO:+0200
TZNAME:CEST
END:DAYLIGHT
END:VTIMEZONE
END:VCALENDAR