BEGIN:VCALENDAR
VERSION:2.0
PRODID:-//wp-events-plugin.com//7.2.3.1//EN
TZID:Europe/Rome
X-WR-TIMEZONE:Europe/Rome
BEGIN:VEVENT
UID:3120@eventi.comune.torino.it
DTSTART;TZID=Europe/Rome:20260409T000000
DTEND;TZID=Europe/Rome:20260602T000000
DTSTAMP:20260421T122858Z
URL:https://eventi.comune.torino.it/calendario/exposed-torino-foto-film-fe
 stival/
SUMMARY:Exposed. Torino Photo Festival
DESCRIPTION:\nDal 9 aprile al 2 giugno 2026 Torino torna a essere uno dei p
 unti di riferimento internazionali per la fotografia con la terza edizione
  di EXPOSED Torino Photo Festival. Il tema scelto per quest’anno\, "Mett
 ersi a nudo"\, invita a superare le apparenze e a interrogarsi sul rapport
 o tra identità e rappresentazione\, tra corpo e immagine\, tra ciò che 
 è visibile e ciò che resta nascosto.\n\n\n\nQuesto filo conduttore attra
 versa l’intero programma del Festival\, composto da mostre temporanee\, 
 incontri\, eventi e iniziative diffuse che coinvolgono artisti e istituzio
 ni provenienti dall’Italia e dall’estero. Le attività si svolgeranno 
 in alcune delle principali sedi culturali torinesi ma anche in numerosi sp
 azi distribuiti nel tessuto urbano della città.\n\n\n\nIn questa prospett
 iva\, il concetto di "mettersi a nudo" assume un significato più ampio de
 llo svelamento fisico. Diventa un gesto simbolico di autenticità\, un inv
 ito a liberarsi delle sovrastrutture e a osservare sé stessi e gli altri 
 senza filtri. La fotografia\, con la sua capacità di raccontare la realt
 à attraverso una molteplicità di sguardi\, riesce a tradurre questa tens
 ione nella concretezza di un volto\, di un paesaggio o di un corpo.\n\n\n\
 nPromossa dalla Cabina di Regia composta da Città di Torino\, Regione Pie
 monte\, Camera di commercio di Torino\, Fondazione Compagnia di San Paolo 
 e Fondazione CRT\, in sinergia con Fondazione Arte CRT e Intesa Sanpaolo\,
  e coordinata da Fondazione per la Cultura Torino\, la terza edizione di E
 XPOSED è curata e realizzata da CAMERA – Centro Italiano per la Fotogra
 fia. L’obiettivo è rafforzare ulteriormente il ruolo di Torino come cit
 tà della fotografia attraverso un programma che comprende 18 mostre indoo
 r e outdoor\, oltre a incontri\, proiezioni e numerosi appuntamenti diffus
 i realizzati con il contributo delle principali istituzioni culturali tori
 nesi\, delle realtà indipendenti e dei protagonisti della scena artistica
  cittadina.\n\n\n\nCos'è Exposed\n\n\n\nÈ il nuovo festival internaziona
 le di fotografia di Torino\, che ogni anno porterà nel capoluogo piemonte
 se\, nel mese di maggio\, mostre temporanee\, una fiera specializzata\, at
 tività didattiche\, incontri\, committenze artistiche ed eventi off decli
 nati attorno a un tema.\n\n\n\nL’obiettivo è quello di stimolare una ri
 flessione sullo stato di transizione della fotografia. Partendo da una pro
 spettiva storica\, Exposed intende presentare vari approcci\, prospettive\
 , narrazioni e intersezioni che mettono in evidenza le diverse forme che i
 l mezzo assume. Allo stesso tempo\, mira a ispirare\, evocare emozioni\, i
 ntrattenere e proporre nuovi modi di interagire\, interpretare e apprezzar
 e il lavoro di artisti classici e contemporanei.\n\n\n\nExposed si propone
  come una presenza all’avanguardia nel panorama internazionale della fot
 ografia\, a complemento dell’offerta esistente. Pertanto\, la direzione 
 artistica del festival si concentra su un approccio inclusivo per attrarre
  un pubblico eterogeneo\, sia locale che internazionale\, attraverso un pr
 ogramma diversificato che comprende diversi approcci alla fotografia: da q
 uella classica a quella contemporanea\, crossmediale\, installativa e perf
 ormativa.\n\n\n\nPass Exposed\n\n\n\nQuesto&nbsp\;pass speciale&nbsp\;ti p
 ermetterà di accedere liberamente a tutte le mostre curate all'interno de
 l programma ufficiale di&nbsp\;Exposed Torino Photo Festival 2026\, ed è 
 completamente gratuito.\n\n\n\nGrazie a questo pass sarà possibile entrar
 e liberamente nelle mostre dedicate a&nbsp\;Toni Thorimbert\, Bernard Plos
 su\, Dean Chalkley\, Yorgos Lanthimos\, Auguste Belloc\, Wilhelm von Gloed
 en\, Carlo Mollino\, Ralph Gibson e Paola Agosti\, oltre alla mostra&nbsp\
 ;Metamorphosis&nbsp\;e a tutte le esposizioni outdoor diffuse in città. I
 l pass permette inoltre di usufruire di&nbsp\;ingressi ridotti&nbsp\;alle 
 mostre di&nbsp\;Diana Markosian&nbsp\;e&nbsp\;Nick Brandt&nbsp\;alle&nbsp\
 ;Gallerie d’Italia&nbsp\;e a quella di&nbsp\;Edward Weston&nbsp\;presso&
 nbsp\;Camera – Centro Italiano per la Fotografia. Un’opportunità per 
 scoprire grandi autori della fotografia internazionale e vivere un percors
 o immersivo tra mostre\, incontri e attività dedicate alla cultura fotogr
 afica.\n\n\n\nPer maggiori informazioni visita il sito di Exposed . \n\n\n
 \nTel: 011 088 1150 mail: exposed@camera.to\n\n\n\nIl programma\n\n\n\nIl 
 programma del festival si sviluppa attraverso mostre indoor e installazion
 i outdoor\, creando un percorso espositivo diffuso che mette in dialogo gr
 andi autori della fotografia e pratiche artistiche contemporanee. L’itin
 erario intreccia sguardi storicizzati e ricerche emergenti\, dando vita a 
 un insieme variegato ma armonico\, dove ogni progetto contribuisce a inter
 pretare il tema "Mettersi a nudo" con linguaggi\, contesti e prospettive d
 iverse. Il risultato è un racconto visivo che attraversa dimensione intim
 a e spazio pubblico\, esplorando il rapporto tra memoria\, identità e rap
 presentazione.\n\n\n\nPotrai trovare le mostre outdoor nei seguenti luoghi
  della città:\n\n\n\n\nportici di via Po\n\n\n\ncancellata Mole Antonelli
 ana\n\n\n\nparcheggio Valdo Fusi\n\n\n\nportici di piazza San Carlo\n\n\n\
 ncancellata palazzo dal Pozzo della Cisterna\n\n\n\ncorte di Palazzo Carig
 nano\n\n\n\n\nFotoblog di Exposed Torino Photo festival\n\n\n\n\n
ATTACH;FMTTYPE=image/jpeg:https://eventi.comune.torino.it/wp-content/uploa
 ds/2024/03/exposed.png
CATEGORIES:Mostra
END:VEVENT
BEGIN:VTIMEZONE
TZID:Europe/Rome
X-LIC-LOCATION:Europe/Rome
BEGIN:DAYLIGHT
DTSTART:20260329T030000
TZOFFSETFROM:+0100
TZOFFSETTO:+0200
TZNAME:CEST
END:DAYLIGHT
END:VTIMEZONE
END:VCALENDAR