BEGIN:VCALENDAR
VERSION:2.0
PRODID:-//wp-events-plugin.com//7.2.3.1//EN
TZID:Europe/Rome
X-WR-TIMEZONE:Europe/Rome
BEGIN:VEVENT
UID:6952@eventi.comune.torino.it
DTSTART;TZID=Europe/Rome;VALUE=DATE:20260410
DTEND;TZID=Europe/Rome;VALUE=DATE:20260907
DTSTAMP:20260413T103237Z
URL:https://eventi.comune.torino.it/calendario/diana-markosian-replaced/
SUMMARY:Diana Markosian. Replaced
DESCRIPTION:\nMostra a cura di&nbsp\;Brandei Estes\, che svela un progetto 
 della giovane artista dedicato alla memoria del primo amore e al sentiment
 o della “sostituzione”.\n\n\n\nDiana Markosian è una delle giovani pr
 otagoniste della scena fotografica contemporanea internazionale. Il proget
 to&nbsp\;Replaced&nbsp\;prende avvio dall’innocenza del primo amore e si
  sviluppa attraverso luoghi e tempi diversi\, tra ricordo e ricostruzione\
 , dove la macchina fotografica diventa al tempo stesso testimone e strumen
 to di indagine emotiva. Nel momento in cui i luoghi e i gesti del passato 
 vengono riattivati\, la memoria si rivela instabile\, mettendo in discussi
 one l’idea stessa di unicità dell’esperienza amorosa.\n\n\n\nPiù che
  un racconto del passato\,&nbsp\;Replaced&nbsp\;è un esercizio di presenz
 a:&nbsp\;un modo per guardare direttamente ciò che è stato finché il ri
 cordo\, da ferita aperta\, si trasforma in parte della propria esperienza.
 \n\n\n\nLa mostra è inserita nell'ambito della terza edizione di EXPOSED.
  Torino Photo Festival\, per approfondimenti puoi consultare la pagina del
 la mostra.\n\n\n\nIngresso intero 10 euro\, ridotto 8 euro\, dal 10 april
 e al 2 giugno 2026 ingresso ridotto speciale 5€ per possessori PASS
  EXPOSED.\n\n\n\nLe Gallerie d'Italia sono aperte tutti i giorni\, escluso
  il lunedì\, dalle 9.30 alle 19.30\, mentre il mercoledì chiudono alle 2
 0.30.\n
ATTACH;FMTTYPE=image/jpeg:https://eventi.comune.torino.it/wp-content/uploa
 ds/2026/04/replaced.png
CATEGORIES:Mostra
LOCATION:Gallerie d'Italia di Intesa Sanpaolo\, Piazza San Carlo 156\, Tori
 no\, Piemonte\, Torino\, Italia
GEO:45.068393;7.682378
X-APPLE-STRUCTURED-LOCATION;VALUE=URI;X-ADDRESS=Piazza San Carlo 156\, Tori
 no\, Piemonte\, Torino\, Italia;X-APPLE-RADIUS=100;X-TITLE=Gallerie d'Ital
 ia di Intesa Sanpaolo:geo:45.068393,7.682378
END:VEVENT
BEGIN:VTIMEZONE
TZID:Europe/Rome
X-LIC-LOCATION:Europe/Rome
BEGIN:DAYLIGHT
DTSTART:20260329T030000
TZOFFSETFROM:+0100
TZOFFSETTO:+0200
TZNAME:CEST
END:DAYLIGHT
END:VTIMEZONE
END:VCALENDAR