BEGIN:VCALENDAR
VERSION:2.0
PRODID:-//wp-events-plugin.com//7.2.3.1//EN
TZID:Europe/Rome
X-WR-TIMEZONE:Europe/Rome
BEGIN:VEVENT
UID:7033@eventi.comune.torino.it
DTSTART;TZID=Europe/Rome;VALUE=DATE:20260417
DTEND;TZID=Europe/Rome;VALUE=DATE:20260713
DTSTAMP:20260416T134220Z
URL:https://eventi.comune.torino.it/calendario/david-bowie-mio-fratellodi-
 david-lawrence-e-francesco-longo/
SUMMARY:David Bowie\, mio fratello - di David Lawrence e Francesco Longo
DESCRIPTION:\nUn racconto per immagini costruisce un ritratto di David Bowi
 e che parte da una relazione privata e attraversa l’intera traiettoria p
 ubblica dell’artista. Il progetto è dello scrittore David Lawrence in p
 rogramma per la prima volta in Italia.Il punto di vista è definito dall
 ’impianto della mostra: la figura di Terry Burns\, fratellastro di Bowie
 \, diventa il dispositivo attraverso cui leggere immagini\, testi e materi
 ali.\n\n\n\nIngresso a pagamento. Senza prenotazione.\n\n\n\nGiovedì\, ve
 nerdì ore 14-18 Sabato\, domenica ore 10-18Ingresso a pagamento o ridotto
  con tessera Abbonamento Musei\n\n\n\nInfo: spaziomusa.torino@gmail.comIg:
  @spaziomusaSito Spazio Musa\n\n\n\n\n
ATTACH;FMTTYPE=image/jpeg:https://eventi.comune.torino.it/wp-content/uploa
 ds/2026/04/david-bowie-fratello.png
CATEGORIES:Mostra
LOCATION:Spazio Musa\, Via della Consolata\, 11/E\, Torino\, Piemonte\, 101
 22\, Torino\, Italia
GEO:45.076566;7.678396
X-APPLE-STRUCTURED-LOCATION;VALUE=URI;X-ADDRESS=Via della Consolata\, 11/E\
 , Torino\, Piemonte\, 10122\, Torino\, Italia;X-APPLE-RADIUS=100;X-TITLE=S
 pazio Musa:geo:45.076566,7.678396
END:VEVENT
BEGIN:VTIMEZONE
TZID:Europe/Rome
X-LIC-LOCATION:Europe/Rome
BEGIN:DAYLIGHT
DTSTART:20260329T030000
TZOFFSETFROM:+0100
TZOFFSETTO:+0200
TZNAME:CEST
END:DAYLIGHT
END:VTIMEZONE
END:VCALENDAR