BEGIN:VCALENDAR
VERSION:2.0
PRODID:-//wp-events-plugin.com//7.2.3.1//EN
TZID:Europe/Rome
X-WR-TIMEZONE:Europe/Rome
BEGIN:VEVENT
UID:5385@eventi.comune.torino.it
DTSTART;TZID=Europe/Rome:20250617T190000
DTEND;TZID=Europe/Rome:20250621T234500
DTSTAMP:20250610T100008Z
URL:https://eventi.comune.torino.it/calendario/cene-pop-up-buonissima-summ
 er-edition-2025/
SUMMARY:Cene Pop Up - Buonissima Summer Edition 2025
DESCRIPTION:\n5 serate. 10 ristoranti. In ogni appuntamento\, uno chef osp
 ite e il cuoco residente si confronteranno in un esercizio a più mani: la
  tradizione incontra le nuove idee\, il territorio si apre alla sperimenta
 zione\, la semplicità si veste d’eccellenza.Uno chef ospite e lo chef r
 esident proporranno un menù condiviso\, frutto di contaminazioni e memori
 a\;\n\n\n\nI posti sono limitati e la prenotazione è obbligatoria.\n\n\n\
 nScopri i ristoranti partecipanti e prenota le Cene Pop Up\n
ATTACH;FMTTYPE=image/jpeg:https://eventi.comune.torino.it/wp-content/uploa
 ds/2025/06/CENE-POP-UP.webp
CATEGORIES:Varie
END:VEVENT
BEGIN:VTIMEZONE
TZID:Europe/Rome
X-LIC-LOCATION:Europe/Rome
BEGIN:DAYLIGHT
DTSTART:20250330T030000
TZOFFSETFROM:+0100
TZOFFSETTO:+0200
TZNAME:CEST
END:DAYLIGHT
END:VTIMEZONE
END:VCALENDAR