BEGIN:VCALENDAR
VERSION:2.0
PRODID:-//wp-events-plugin.com//7.2.3.1//EN
TZID:Europe/Rome
X-WR-TIMEZONE:Europe/Rome
BEGIN:VEVENT
UID:6098@eventi.comune.torino.it
DTSTART;TZID=Europe/Rome;VALUE=DATE:20251231
DTEND;TZID=Europe/Rome;VALUE=DATE:20260102
DTSTAMP:20251229T152134Z
URL:https://eventi.comune.torino.it/calendario/capodanno-2026/
SUMMARY:Capodanno 2026
DESCRIPTION:\n“Torino Time” - il concerto del 31 dicembre all'Inalpi Ar
 ena\n\n\n\nDal pop al rock\, dall’urban all’elettronica\, tra artisti 
 affermati e nuove voci della scena contemporanea: “Torino Time”\, il c
 oncerto del 31 dicembre\, sarà un racconto musicale collettivo\, capace d
 i intrattenere e divertire un pubblico variegato. Una grande festa\, ma an
 che un omaggio alla storia\, ricordando gli 80 anni dal referendum del 194
 6 e il primo voto delle donne italiane.\n\n\n\nAd accompagnare il pubblico
  verso la mezzanotte\, una line-up che combina fenomeni musicali amatissim
 i\, icone della scena elettronica italiana e talenti della creatività tor
 inese. Apriranno lo spettacolo le giovani&nbsp\;irossa\, gruppo nato dal c
 ontest Pagella Non Solo Rock e finalista del Torino Music Forum. Seguirann
 o le&nbsp\;Bambole di Pezza\, storica formazione rock-pop-punk tutta al fe
 mminile\, attiva da oltre vent’anni e impegnata sui temi dei diritti e d
 ell’uguaglianza di genere. La festa proseguirà con una delle realtà it
 aliane più conosciute nel mondo\, i&nbsp\;Planet Funk\, collettivo che da
  25 anni segna la scena elettronica internazionale con album\, collaborazi
 oni e brani entrati nell’immaginario collettivo.\n\n\n\nSul palco sarà 
 presente anche la rapper torinese&nbsp\;Beba\, in doppia veste di performe
 r e co-conduttrice insieme a&nbsp\;Marco Maccarini\, figura di riferimento
  della scena musicale televisiva e radiofonica italiana\, già volto dei p
 rogrammi cult di MTV\, conduttore di due edizioni del Festivalbar e protag
 onista di trasmissioni radiofoniche e format musicali.\n\n\n\nLo spettacol
 o continuerà anche dopo la mezzanotte\, con&nbsp\;Deejay Time Live\, prog
 etto dal vivo nato dallo storico format radiofonico creato da&nbsp\;Albert
 ino&nbsp\;con&nbsp\;Fargetta\,&nbsp\;Molella&nbsp\;e&nbsp\;Prezioso. Un vi
 aggio nei successi dagli anni ’90 a oggi\, con visual\, luci e un impatt
 o scenico da grande evento\, che celebrerà la storia della dance italiana
  nel mondo.\n\n\n\nInformazioni utili e modalità d'accesso\n\n\n\nSe vien
 i in macchina puoi parcheggiare in corso Galileo Ferraris\, corso IV novem
 bre\, corso Agnelli e via Filadelfia dove sono presenti anche diversi post
 i dedicati a persone con disabilità.\n\n\n\nGTT prevede di potenziare le 
 linee di autobus e tram\, in particolare le linee 4 e 10\, raddoppiandone 
 il servizio tra le ore 19:30 e le 3:00 dell'1/01. In aggiunta\, sarà pres
 ente la classica programmazione della linea night bus in partenza da piazz
 a Vittorio dall'1:00 alle 5:00.\n\n\n\nGli ingressi si trovano nell'area p
 edonale di corso Sebastopoli. Consigliamo alle persone con disabilità di 
 accedere dal lato di corso Agnelli / corso IV novembre (Stadio Olimpico). 
 \n\n\n\n\n\n\n\nL'accesso all'Inalpi Arena è consentito esclusivamente ai
  possessori di biglietto\, non acquistabile in loco\, con documento di ide
 ntità in corso di validità. \n\n\n\nI cancelli apriranno alle 19:30: att
 endi l'inizio dello spettacolo senza pensieri\, potrai usufruire dei punti
  food all'interno dell'Inalpi Arena.\n\n\n\nInformazioni di sicurezza\n\n\
 n\nL'area non dispone di un deposito zaini\, borse\, caschi o altri oggett
 i. L'accesso all'area concerti prevede controlli di sicurezza con metal de
 tector. I minori  di 16 anni devono essere accompagnati da un adulto maggi
 orenne.\n\n\n\nNon è consentito portare all'interno:\n\n\n\n\ncibo e beva
 nde di ogni tipo\;\n\n\n\naeroplani e droni telecomandati\;\n\n\n\nbicicle
 tte\, pattini\, monopattini\, skateboard ed altri mezzi di trasporto\;\n\n
 \n\ncaschi e catene\;\n\n\n\nsostanze nocive\;\n\n\n\npuntatori laser e po
 werbank di grandi dimensioni\;\n\n\n\nborracce\, bottiglie di plastica o v
 etro\, lattine\;\n\n\n\nmateriale pirotecnico e fumogeni\;\n\n\n\ntende\, 
 sacchi a pelo\, striscioni e bandiere\;\n\n\n\npasseggini\;\n\n\n\nanimali
  di qualsiasi genere e taglia\;\n\n\n\naste\, selfie-stick e treppiedi\;\n
 \n\n\nsostanze stupefacenti\;\n\n\n\nombrelli grandi e con punta\;\n\n\n\n
 bombolette spray (antizanzare\, deodoranti\, creme solari...)\;\n\n\n\narm
 i\, coltelli\, oggetti atti ad offendere\, oggetti da punta o taglio\;\n\n
 \n\ndispositivi professionali per registrazione audio e video\;\n\n\n\nstr
 umenti musicali\, trombette da stadio\;\n\n\n\ntrolley\, valigie\, zaini e
  borse di grandi dimensioni\;\n\n\n\nmateriale esplosivo o infiammabile.\n
 \n\n\n\n\n\n\n\nInformazioni per i biglietti\n\n\n\nL’accesso all’even
 to prevede una cauzione di 5 €\, che verrà interamente rimborsata a tut
 ti i partecipanti entro due settimane dalla conclusione dell’evento\, tr
 amite lo stesso metodo di pagamento utilizzato.&nbsp\;&nbsp\;In caso di ma
 ncata partecipazione\, la cauzione non verrà restituita e l’importo sar
 à devoluto in beneficenza alla Fondazione Ricerca Molinette.&nbsp\;&nbsp\
 ;\n\n\n\nQuesta modalità consente di garantire che ogni posto sia riserva
 to a persone effettivamente interessate a prendere parte alla serata.&nbsp
 \;&nbsp\;\n\n\n\nSono previste due diverse modalità di fruizione: i posti
  nel parterre consentono la partecipazione esclusivamente in piedi\, mentr
 e i posti nelle tribune prevedono la fruizione seduti.&nbsp\;&nbsp\;\n\n\n
 \nPuoi acquistare acquistare fino ad un massimo di 4 biglietti per persona
 \,&nbsp\;attraverso la piattaforma Happyticket.\n\n\n\nIl biglietto sarà 
 digitale e nominativo.\n\n\n\nAccesso per persone con disabilità\n\n\n\nP
 er le persone con disabilità è disponibile un servizio dedicato di assis
 tenza alle prenotazioni\, contattabile all’indirizzo: biglietteria.capod
 anno@e23.it.\n
ATTACH;FMTTYPE=image/jpeg:https://eventi.comune.torino.it/wp-content/uploa
 ds/2025/12/SITO-E-SOCIAL_COM_800x450.jpg
CATEGORIES:Musica
END:VEVENT
BEGIN:VTIMEZONE
TZID:Europe/Rome
X-LIC-LOCATION:Europe/Rome
BEGIN:STANDARD
DTSTART:20251026T020000
TZOFFSETFROM:+0200
TZOFFSETTO:+0100
TZNAME:CET
END:STANDARD
END:VTIMEZONE
END:VCALENDAR